BEGIN:VCALENDAR
PRODID:-//http://statistik.d-u-v.org//PHP ultracalendar//EN
VERSION:2.0
METHOD:PUBLISH
BEGIN:VEVENT
DTSTAMP:20260419T185802
CREATED:20230313T092338
UID:1776625082.0.63511200-96439@statistik.d-u-v.org
SUMMARY:Dukeries Ultra 30 Mile
DESCRIPTION: Dukeries Ultra 30 Mile\n
  Ronnie Staton\n
  ronnie[at]hobopace.co.uk
DTSTART:20230506T080000
DTEND:00000000T235900
LOCATION:Walesby\, GBR
URL:https://www.hobopace.co.uk
CATEGORIES:Ultramarathon
CONTACT:Ronnie Staton
CLASS:PUBLIC
PRIORITY:5
TRANSP:OPAQUE
END:VEVENT
END:VCALENDAR
