BEGIN:VCALENDAR
PRODID:-//http://statistik.d-u-v.org//PHP ultracalendar//EN
VERSION:2.0
METHOD:PUBLISH
BEGIN:VEVENT
DTSTAMP:20260424T180008
CREATED:20230312T152016
UID:1777053608.0.63400300-96359@statistik.d-u-v.org
SUMMARY:Southern Discomfort 30 Hour Race
DESCRIPTION: Southern Discomfort 30 Hour Race\n
  Kelli Kilpatrick\n
  kelli.sliwinski[at]gmail.com
DTSTART:20231021T070000
DTEND:20231022T140000
LOCATION:Albany, GA\, USA
URL:http://ultrasignup.com/register.aspx?did=59536
CATEGORIES:Ultramarathon
CONTACT:Kelli Kilpatrick
CLASS:PUBLIC
PRIORITY:5
TRANSP:OPAQUE
END:VEVENT
END:VCALENDAR
