BEGIN:VCALENDAR
PRODID:-//http://statistik.d-u-v.org//PHP ultracalendar//EN
VERSION:2.0
METHOD:PUBLISH
BEGIN:VEVENT
DTSTAMP:20260423T144955
CREATED:20230312T150659
UID:1776955795.0.57832900-96351@statistik.d-u-v.org
SUMMARY:Mighty Mosquito 99 Mile Ultra Race
DESCRIPTION: Mighty Mosquito 99 Mile Ultra Race\n
  \n
  rob[at]bluefoundationny.org
DTSTART:20230805T120000
DTEND:20230806T235900
LOCATION:Honeoye Falls, NY\, USA
URL:https://www.facebook.com/events/908095589348453/
CATEGORIES:Ultramarathon
CONTACT:
CLASS:PUBLIC
PRIORITY:5
TRANSP:OPAQUE
END:VEVENT
END:VCALENDAR
