BEGIN:VCALENDAR
PRODID:-//http://statistik.d-u-v.org//PHP ultracalendar//EN
VERSION:2.0
METHOD:PUBLISH
BEGIN:VEVENT
DTSTAMP:20260423T031445
CREATED:20230312T113300
UID:1776914085.0.97301500-96299@statistik.d-u-v.org
SUMMARY:The Yeti 100 Mile Endurance Run-Washington
DESCRIPTION: The Yeti 100 Mile Endurance Run-Washington\n
  \n
  yetitrailrunners[at]gmail.com
DTSTART:20230623T000000
DTEND:00000000T235900
LOCATION:North Bend, WA\, USA
URL:https://yetitrailrunners.com/
CATEGORIES:Ultramarathon
CONTACT:
CLASS:PUBLIC
PRIORITY:5
TRANSP:OPAQUE
END:VEVENT
END:VCALENDAR
