BEGIN:VCALENDAR
PRODID:-//http://statistik.d-u-v.org//PHP ultracalendar//EN
VERSION:2.0
METHOD:PUBLISH
BEGIN:VEVENT
DTSTAMP:20260426T033531
CREATED:20230312T112617
UID:1777174531.0.20516200-96294@statistik.d-u-v.org
SUMMARY:Badwater Ultramarathon
DESCRIPTION: Badwater Ultramarathon\n
  \n
  adventurecorps[at]gmail.com
DTSTART:20230704T060000
DTEND:20230705T235900
LOCATION:Badwater, Death Valley, CA\, USA
URL:http://www.badwater.com/event/badwater-135/
CATEGORIES:Ultramarathon
CONTACT:
CLASS:PUBLIC
PRIORITY:5
TRANSP:OPAQUE
END:VEVENT
END:VCALENDAR
