BEGIN:VCALENDAR
PRODID:-//http://statistik.d-u-v.org//PHP ultracalendar//EN
VERSION:2.0
METHOD:PUBLISH
BEGIN:VEVENT
DTSTAMP:20260419T192104
CREATED:20110102T180233
UID:1776626464.0.12106500-9624@statistik.d-u-v.org
SUMMARY:Quicksilver 50 Mile Endurance Run
DESCRIPTION: Quicksilver 50 Mile Endurance Run\n
  \n
  pycouteau[at]gmail.com
DTSTART:20090509T000000
DTEND:00000000T235900
LOCATION:San Jose, CA\, USA
URL:http://www.quicksilver-running.com/index_files/Page348.htm
CATEGORIES:Ultramarathon
CONTACT:
CLASS:PUBLIC
PRIORITY:5
TRANSP:OPAQUE
END:VEVENT
END:VCALENDAR
