BEGIN:VCALENDAR
PRODID:-//http://statistik.d-u-v.org//PHP ultracalendar//EN
VERSION:2.0
METHOD:PUBLISH
BEGIN:VEVENT
DTSTAMP:20260422T135524
CREATED:20230308T220955
UID:1776866124.0.13487100-96126@statistik.d-u-v.org
SUMMARY:UltraMilano-Sanremo 285 km
DESCRIPTION: UltraMilano-Sanremo 285 km\n
  \n
  impossible.target.asd[at]gmail.com
DTSTART:20230414T100000
DTEND:20230416T140000
LOCATION:Milano\, ITA
URL:http://www.workwithcode.com/ums/en/
CATEGORIES:Ultramarathon
CONTACT:
CLASS:PUBLIC
PRIORITY:5
TRANSP:OPAQUE
END:VEVENT
END:VCALENDAR
