BEGIN:VCALENDAR
PRODID:-//http://statistik.d-u-v.org//PHP ultracalendar//EN
VERSION:2.0
METHOD:PUBLISH
BEGIN:VEVENT
DTSTAMP:20260425T220149
CREATED:20230306T095613
UID:1777154509.0.83535200-96072@statistik.d-u-v.org
SUMMARY:Tuscany Crossing TC53K
DESCRIPTION: Tuscany Crossing TC53K\n
  Roberto Amaddii\n
  info[at]tuscanycrossing.com
DTSTART:20230422T060000
DTEND:00000000T235900
LOCATION:Castiglione d'Orcia (SI)\, ITA
URL:http://tuscanycrossing.com/
CATEGORIES:Ultramarathon
CONTACT:Roberto Amaddii
CLASS:PUBLIC
PRIORITY:5
TRANSP:OPAQUE
END:VEVENT
END:VCALENDAR
