BEGIN:VCALENDAR
PRODID:-//http://statistik.d-u-v.org//PHP ultracalendar//EN
VERSION:2.0
METHOD:PUBLISH
BEGIN:VEVENT
DTSTAMP:20260419T185839
CREATED:20230301T150947
UID:1776625119.0.21335200-95972@statistik.d-u-v.org
SUMMARY:Les 12 heures de Royan - course
DESCRIPTION: Les 12 heures de Royan - course\n
  Daniel Fritzsch\n
  fritzsch.daniel[at]free.fr
DTSTART:20230930T083000
DTEND:20230930T203000
LOCATION:Royan\, FRA
URL:http://www.48hderoyan.fr/
CATEGORIES:Ultramarathon
CONTACT:Daniel Fritzsch
CLASS:PUBLIC
PRIORITY:5
TRANSP:OPAQUE
END:VEVENT
END:VCALENDAR
