BEGIN:VCALENDAR
PRODID:-//http://statistik.d-u-v.org//PHP ultracalendar//EN
VERSION:2.0
METHOD:PUBLISH
BEGIN:VEVENT
DTSTAMP:20260424T150807
CREATED:20101228T155322
UID:1777043287.0.76734500-9582@statistik.d-u-v.org
SUMMARY:Self-Transcendence 24 Hour Race Ottawa - 50mi Split
DESCRIPTION: Self-Transcendence 24 Hour Race Ottawa - 50mi Split\n
  \n
  
DTSTART:19980912T000000
DTEND:19980913T235900
LOCATION:Ottawa, ON\, CAN
URL:http://www.srichinmoyraces.org/ca/Ottawa/ottawa24hr
CATEGORIES:Ultramarathon
CONTACT:
CLASS:PUBLIC
PRIORITY:5
TRANSP:OPAQUE
END:VEVENT
END:VCALENDAR
