BEGIN:VCALENDAR
PRODID:-//http://statistik.d-u-v.org//PHP ultracalendar//EN
VERSION:2.0
METHOD:PUBLISH
BEGIN:VEVENT
DTSTAMP:20260419T192417
CREATED:20230227T141835
UID:1776626657.0.25418300-95805@statistik.d-u-v.org
SUMMARY:Sugar Badger 50 km Race
DESCRIPTION: Sugar Badger 50 km Race\n
  \n
  tjmracing[at]tenjunkmiles.com
DTSTART:20230527T070000
DTEND:00000000T235900
LOCATION:Belleville, WI\, USA
URL:https://www.tenjunkmilesracing.com/
CATEGORIES:Ultramarathon
CONTACT:
CLASS:PUBLIC
PRIORITY:5
TRANSP:OPAQUE
END:VEVENT
END:VCALENDAR
