BEGIN:VCALENDAR
PRODID:-//http://statistik.d-u-v.org//PHP ultracalendar//EN
VERSION:2.0
METHOD:PUBLISH
BEGIN:VEVENT
DTSTAMP:20260419T164313
CREATED:20230227T090554
UID:1776616993.0.99285300-95754@statistik.d-u-v.org
SUMMARY:INFINITUS 2023 - 888k Ultramarathon
DESCRIPTION: INFINITUS 2023 - 888k Ultramarathon\n
  \n
  
DTSTART:20230518T000000
DTEND:20230527T235900
LOCATION:Goshen, VT\, USA
URL:http://www.endurancesociety.org/infinitus.html
CATEGORIES:Ultramarathon
CONTACT:
CLASS:PUBLIC
PRIORITY:5
TRANSP:OPAQUE
END:VEVENT
END:VCALENDAR
