BEGIN:VCALENDAR
PRODID:-//http://statistik.d-u-v.org//PHP ultracalendar//EN
VERSION:2.0
METHOD:PUBLISH
BEGIN:VEVENT
DTSTAMP:20260419T220800
CREATED:20230227T082230
UID:1776636480.0.48912500-95749@statistik.d-u-v.org
SUMMARY:Galena Sky Trail Race 8 Hours
DESCRIPTION: Galena Sky Trail Race 8 Hours\n
  \n
  dirtrunner100[at]yahoo.com
DTSTART:20230520T080000
DTEND:00000000T235900
LOCATION:Galena, IL\, USA
URL:https://www.galenaskytrailrace.com/
CATEGORIES:Ultramarathon
CONTACT:
CLASS:PUBLIC
PRIORITY:5
TRANSP:OPAQUE
END:VEVENT
END:VCALENDAR
