BEGIN:VCALENDAR
PRODID:-//http://statistik.d-u-v.org//PHP ultracalendar//EN
VERSION:2.0
METHOD:PUBLISH
BEGIN:VEVENT
DTSTAMP:20260423T080725
CREATED:20230227T065050
UID:1776931645.0.95680900-95711@statistik.d-u-v.org
SUMMARY:Dirty German Endurance Fest 50 km
DESCRIPTION: Dirty German Endurance Fest 50 km\n
  Race Director Stephan Weiss\n
  stephanweiss[at]comcast.net
DTSTART:20230520T080000
DTEND:00000000T235900
LOCATION:Philadelphia, PA\, USA
URL:http://www.uberendurancesports.com/Dirtygerman.html
CATEGORIES:Ultramarathon
CONTACT:Race Director Stephan Weiss
CLASS:PUBLIC
PRIORITY:5
TRANSP:OPAQUE
END:VEVENT
END:VCALENDAR
