BEGIN:VCALENDAR
PRODID:-//http://statistik.d-u-v.org//PHP ultracalendar//EN
VERSION:2.0
METHOD:PUBLISH
BEGIN:VEVENT
DTSTAMP:20260423T023927
CREATED:20230227T044258
UID:1776911967.0.41566400-95658@statistik.d-u-v.org
SUMMARY:Tartarus Backyard Ultra
DESCRIPTION: Tartarus Backyard Ultra\n
  \n
  kaniksuultra[at]gmail.com
DTSTART:20230819T070000
DTEND:00000000T235900
LOCATION:Nine Mile Falls, WA\, USA
URL:https://www.kaniksuultras.com/tarturus-backyard-ultra
CATEGORIES:Ultramarathon
CONTACT:
CLASS:PUBLIC
PRIORITY:5
TRANSP:OPAQUE
END:VEVENT
END:VCALENDAR
