BEGIN:VCALENDAR
PRODID:-//http://statistik.d-u-v.org//PHP ultracalendar//EN
VERSION:2.0
METHOD:PUBLISH
BEGIN:VEVENT
DTSTAMP:20260425T175830
CREATED:20230226T230249
UID:1777139910.0.87602300-95616@statistik.d-u-v.org
SUMMARY:Desafio Calar Del Rio Mundo 45km
DESCRIPTION: Desafio Calar Del Rio Mundo 45km\n
  \n
  info[at]desafiocalardelriomundo.com
DTSTART:20210618T080000
DTEND:00000000T235900
LOCATION:Riopar\, ESP
URL:http://www.desafiocalardelriomundo.com/
CATEGORIES:Ultramarathon
CONTACT:
CLASS:PUBLIC
PRIORITY:5
TRANSP:OPAQUE
END:VEVENT
END:VCALENDAR
