BEGIN:VCALENDAR
PRODID:-//http://statistik.d-u-v.org//PHP ultracalendar//EN
VERSION:2.0
METHOD:PUBLISH
BEGIN:VEVENT
DTSTAMP:20260419T192339
CREATED:20230226T171931
UID:1776626619.0.51438900-95608@statistik.d-u-v.org
SUMMARY:The Krrbrrr – Knik River Break-up Ramble Run
DESCRIPTION: The Krrbrrr – Knik River Break-up Ramble Run\n
  \n
  thekrrbrrr[at]yahoo.com
DTSTART:20230408T100000
DTEND:00000000T235900
LOCATION:Palmer, AK\, USA
URL:https://thekrrbrrr.wordpress.com/
CATEGORIES:Ultramarathon
CONTACT:
CLASS:PUBLIC
PRIORITY:5
TRANSP:OPAQUE
END:VEVENT
END:VCALENDAR
