BEGIN:VCALENDAR
PRODID:-//http://statistik.d-u-v.org//PHP ultracalendar//EN
VERSION:2.0
METHOD:PUBLISH
BEGIN:VEVENT
DTSTAMP:20260419T210226
CREATED:20230223T041439
UID:1776632546.0.67293300-95427@statistik.d-u-v.org
SUMMARY:Ultra Trail des Chic-Chocs (UTCC) - La Traversee
DESCRIPTION: Ultra Trail des Chic-Chocs (UTCC) - La Traversee\n
  \n
  inscriptions[at]utchicchocs.com
DTSTART:20210703T060000
DTEND:00000000T235900
LOCATION:Sainte-Anne-des-Monts, QC\, CAN
URL:https://itra.run/Races/RaceResults/Ultra.Trail.Chic.chocs.Ultra.marathon.la.travers%C3%A9e/2021/69255
CATEGORIES:Ultramarathon
CONTACT:
CLASS:PUBLIC
PRIORITY:5
TRANSP:OPAQUE
END:VEVENT
END:VCALENDAR
