BEGIN:VCALENDAR
PRODID:-//http://statistik.d-u-v.org//PHP ultracalendar//EN
VERSION:2.0
METHOD:PUBLISH
BEGIN:VEVENT
DTSTAMP:20260423T014944
CREATED:20230222T120423
UID:1776908984.0.54860200-95399@statistik.d-u-v.org
SUMMARY:Pi Day River Rotation - The Ultra Pi Slam
DESCRIPTION: Pi Day River Rotation - The Ultra Pi Slam\n
  \n
  
DTSTART:20230311T073000
DTEND:00000000T235900
LOCATION:Lawrence, KS\, USA
URL:https://trailhawks.com/races/2019/mar/09/pi-day-9/
CATEGORIES:Ultramarathon
CONTACT:
CLASS:PUBLIC
PRIORITY:5
TRANSP:OPAQUE
END:VEVENT
END:VCALENDAR
