BEGIN:VCALENDAR
PRODID:-//http://statistik.d-u-v.org//PHP ultracalendar//EN
VERSION:2.0
METHOD:PUBLISH
BEGIN:VEVENT
DTSTAMP:20260423T124654
CREATED:20230221T150055
UID:1776948414.0.25148100-95348@statistik.d-u-v.org
SUMMARY:Running Festival Wychwood December 100 Miles
DESCRIPTION: Running Festival Wychwood December 100 Miles\n
  Eric Wright\n
  wrightracetiming[at]gmail.com
DTSTART:20221218T120000
DTEND:20221219T235900
LOCATION:Wychwood, Germiston\, RSA
URL:http://www.wrightracetiming.co.za/event/running-festival-multiday-races/
CATEGORIES:Ultramarathon
CONTACT:Eric Wright
CLASS:PUBLIC
PRIORITY:5
TRANSP:OPAQUE
END:VEVENT
END:VCALENDAR
