BEGIN:VCALENDAR
PRODID:-//http://statistik.d-u-v.org//PHP ultracalendar//EN
VERSION:2.0
METHOD:PUBLISH
BEGIN:VEVENT
DTSTAMP:20260423T031340
CREATED:20101222T211827
UID:1776914020.0.47469100-9530@statistik.d-u-v.org
SUMMARY:Tor des Géants - 330 km Endurance Trail della Valle d'Aosta
DESCRIPTION: Tor des Géants - 330 km Endurance Trail della Valle d'Aosta\n
  \n
  info[at]tordesgeants.it
DTSTART:20110911T100000
DTEND:20110917T160000
LOCATION:Courmayeur\, ITA
URL:http://www.tordesgeants.it/
CATEGORIES:Ultramarathon
CONTACT:
CLASS:PUBLIC
PRIORITY:5
TRANSP:OPAQUE
END:VEVENT
END:VCALENDAR
