BEGIN:VCALENDAR
PRODID:-//http://statistik.d-u-v.org//PHP ultracalendar//EN
VERSION:2.0
METHOD:PUBLISH
BEGIN:VEVENT
DTSTAMP:20260419T202907
CREATED:20230217T095113
UID:1776630547.0.69480400-95220@statistik.d-u-v.org
SUMMARY:UTMP Ultra Montaña Palentina
DESCRIPTION: UTMP Ultra Montaña Palentina\n
  Francisco Caballero\n
  utmp70[at]gmail.com
DTSTART:20230916T050000
DTEND:00000000T235900
LOCATION:Camporredondo de Alba (Palencia)\, ESP
URL:https://utmp.run/
CATEGORIES:Ultramarathon
CONTACT:Francisco Caballero
CLASS:PUBLIC
PRIORITY:5
TRANSP:OPAQUE
END:VEVENT
END:VCALENDAR
