BEGIN:VCALENDAR
PRODID:-//http://statistik.d-u-v.org//PHP ultracalendar//EN
VERSION:2.0
METHOD:PUBLISH
BEGIN:VEVENT
DTSTAMP:20260419T172539
CREATED:20230214T152059
UID:1776619539.0.32269100-95163@statistik.d-u-v.org
SUMMARY:Sri Chinmoy Self-Transcendence 24h-Lauf Chisinau - National Championchips
DESCRIPTION: Sri Chinmoy Self-Transcendence 24h-Lauf Chisinau - National Championchips\n
  Ion Frunza\n
  moldova[at]srichinmoyraces.org
DTSTART:20230603T100000
DTEND:20230604T100000
LOCATION:Chisinau\, MDA
URL:https://md.srichinmoyraces.org/super
CATEGORIES:Ultramarathon
CONTACT:Ion Frunza
CLASS:PUBLIC
PRIORITY:5
TRANSP:OPAQUE
END:VEVENT
END:VCALENDAR
