BEGIN:VCALENDAR
PRODID:-//http://statistik.d-u-v.org//PHP ultracalendar//EN
VERSION:2.0
METHOD:PUBLISH
BEGIN:VEVENT
DTSTAMP:20260425T195206
CREATED:20230213T143116
UID:1777146726.0.60821700-95101@statistik.d-u-v.org
SUMMARY:Taipei 24hr Ultra Marathon - 100km Split
DESCRIPTION: Taipei 24hr Ultra Marathon - 100km Split\n
  Frank Kuo, Race director\n
  yhwang.ctau[at]gmail.com
DTSTART:20230211T140000
DTEND:20230212T140000
LOCATION:Taipei City\, TPE
URL:https://docs.google.com/document/d/1kjC9KSRQ-pLTIkqLAfoSxbCMjC40olAzOgjMwygw29Q/edit
CATEGORIES:Ultramarathon
CONTACT:Frank Kuo, Race director
CLASS:PUBLIC
PRIORITY:5
TRANSP:OPAQUE
END:VEVENT
END:VCALENDAR
