BEGIN:VCALENDAR
PRODID:-//http://statistik.d-u-v.org//PHP ultracalendar//EN
VERSION:2.0
METHOD:PUBLISH
BEGIN:VEVENT
DTSTAMP:20260423T024903
CREATED:20230212T095031
UID:1776912543.0.23744000-95051@statistik.d-u-v.org
SUMMARY:Across The Years, 100mi
DESCRIPTION: Across The Years, 100mi\n
  Jubilee Paige\n
  jubilee[at]aravaiparunning.com
DTSTART:20231231T080000
DTEND:20240103T080000
LOCATION:Phoenix, AZ\, USA
URL:https://www.aravaiparunning.com/across-the-years/
CATEGORIES:Ultramarathon
CONTACT:Jubilee Paige
CLASS:PUBLIC
PRIORITY:5
TRANSP:OPAQUE
END:VEVENT
END:VCALENDAR
