BEGIN:VCALENDAR
PRODID:-//http://statistik.d-u-v.org//PHP ultracalendar//EN
VERSION:2.0
METHOD:PUBLISH
BEGIN:VEVENT
DTSTAMP:20260423T024826
CREATED:20230212T094154
UID:1776912506.0.31419400-95047@statistik.d-u-v.org
SUMMARY:Across the Years, 24h
DESCRIPTION: Across the Years, 24h\n
  Jubilee Paige\n
  jubilee[at]aravaiparunning.com
DTSTART:20231228T090000
DTEND:20231229T090000
LOCATION:Phoenix, AZ\, USA
URL:https://www.aravaiparunning.com/across-the-years/
CATEGORIES:Ultramarathon
CONTACT:Jubilee Paige
CLASS:PUBLIC
PRIORITY:5
TRANSP:OPAQUE
END:VEVENT
END:VCALENDAR
