BEGIN:VCALENDAR
PRODID:-//http://statistik.d-u-v.org//PHP ultracalendar//EN
VERSION:2.0
METHOD:PUBLISH
BEGIN:VEVENT
DTSTAMP:20260419T192019
CREATED:20230210T120641
UID:1776626419.0.63980900-95007@statistik.d-u-v.org
SUMMARY:Trail des Crêtes de Spa
DESCRIPTION: Trail des Crêtes de Spa\n
  Sarah Bolsius\n
  info[at]golazo.com
DTSTART:20230326T083000
DTEND:00000000T235900
LOCATION:SPA\, BEL
URL:https://cretesdespa.be
CATEGORIES:Ultramarathon
CONTACT:Sarah Bolsius
CLASS:PUBLIC
PRIORITY:5
TRANSP:OPAQUE
END:VEVENT
END:VCALENDAR
