BEGIN:VCALENDAR
PRODID:-//http://statistik.d-u-v.org//PHP ultracalendar//EN
VERSION:2.0
METHOD:PUBLISH
BEGIN:VEVENT
DTSTAMP:20260422T084453
CREATED:20230205T165711
UID:1776847493.0.80600700-94967@statistik.d-u-v.org
SUMMARY:S:t Hans Extreme
DESCRIPTION: S:t Hans Extreme\n
  Sara Linse\n
  she[at]lundsok.se
DTSTART:20230603T100000
DTEND:20230603T160000
LOCATION:Lund\, SWE
URL:http://she.lundsok.se
CATEGORIES:Ultramarathon
CONTACT:Sara Linse
CLASS:PUBLIC
PRIORITY:5
TRANSP:OPAQUE
END:VEVENT
END:VCALENDAR
