BEGIN:VCALENDAR
PRODID:-//http://statistik.d-u-v.org//PHP ultracalendar//EN
VERSION:2.0
METHOD:PUBLISH
BEGIN:VEVENT
DTSTAMP:20260423T052617
CREATED:20230203T111125
UID:1776921977.0.51423000-94959@statistik.d-u-v.org
SUMMARY:Flat Top Mesa 100 km Endurance Run
DESCRIPTION: Flat Top Mesa 100 km Endurance Run\n
  \n
  
DTSTART:20230224T000000
DTEND:20230225T235900
LOCATION:Mesquite, NV\, USA
URL:https://www.facebook.com/Mesquite-Flat-Top-Mesa-Endurance-Run-787235015008104/
CATEGORIES:Ultramarathon
CONTACT:
CLASS:PUBLIC
PRIORITY:5
TRANSP:OPAQUE
END:VEVENT
END:VCALENDAR
