BEGIN:VCALENDAR
PRODID:-//http://statistik.d-u-v.org//PHP ultracalendar//EN
VERSION:2.0
METHOD:PUBLISH
BEGIN:VEVENT
DTSTAMP:20260422T211811
CREATED:20230203T160809
UID:1776892691.0.17819500-94927@statistik.d-u-v.org
SUMMARY:Great Naseby Water 100 km Race
DESCRIPTION: Great Naseby Water 100 km Race\n
  \n
  gnwrnaseby[at]gmail.com
DTSTART:20230826T050000
DTEND:00000000T235900
LOCATION:Naseby\, NZL
URL:https://www.greatnasebywaterrace.co.nz/
CATEGORIES:Ultramarathon
CONTACT:
CLASS:PUBLIC
PRIORITY:5
TRANSP:OPAQUE
END:VEVENT
END:VCALENDAR
