BEGIN:VCALENDAR
PRODID:-//http://statistik.d-u-v.org//PHP ultracalendar//EN
VERSION:2.0
METHOD:PUBLISH
BEGIN:VEVENT
DTSTAMP:20260423T034953
CREATED:20230201T114258
UID:1776916193.0.29618500-94850@statistik.d-u-v.org
SUMMARY:Tour New Year Ultra Run Stage Race - 4.Dapu Xiongkong
DESCRIPTION: Tour New Year Ultra Run Stage Race - 4.Dapu Xiongkong\n
  \n
  
DTSTART:20230123T060000
DTEND:00000000T235900
LOCATION:Sanxia District\, TPE
URL:https://www.facebook.com/events/2498766597097140/?acontext=%7B%22event_action_history%22%3A[%7B%22surface%22%3A%22group%22%7D]%7D
CATEGORIES:Ultramarathon
CONTACT:
CLASS:PUBLIC
PRIORITY:5
TRANSP:OPAQUE
END:VEVENT
END:VCALENDAR
