BEGIN:VCALENDAR
PRODID:-//http://statistik.d-u-v.org//PHP ultracalendar//EN
VERSION:2.0
METHOD:PUBLISH
BEGIN:VEVENT
DTSTAMP:20260419T192610
CREATED:20230129T202623
UID:1776626770.0.67057200-94780@statistik.d-u-v.org
SUMMARY:Mountain Ultra Trail by UTMB - MUT 100
DESCRIPTION: Mountain Ultra Trail by UTMB - MUT 100\n
  \n
  mountainultratrail[at]service.byutmb.world
DTSTART:20230527T050000
DTEND:20230528T050000
LOCATION:George\, RSA
URL:https://mut.utmb.world/races-runners/races/mut100
CATEGORIES:Ultramarathon
CONTACT:
CLASS:PUBLIC
PRIORITY:5
TRANSP:OPAQUE
END:VEVENT
END:VCALENDAR
