BEGIN:VCALENDAR
PRODID:-//http://statistik.d-u-v.org//PHP ultracalendar//EN
VERSION:2.0
METHOD:PUBLISH
BEGIN:VEVENT
DTSTAMP:20260421T190137
CREATED:20230126T093239
UID:1776798097.0.31045800-94645@statistik.d-u-v.org
SUMMARY:Tuffman Beach Ultra
DESCRIPTION: Tuffman Beach Ultra\n
  \n
  tuffmanindia[at]gmail.com
DTSTART:20221120T070000
DTEND:00000000T235900
LOCATION:Goa, state\, IND
URL:https://www.citywoofer.com/e/tuffman-beach-ultra-and-half-marathon-goa-6th-edition
CATEGORIES:Ultramarathon
CONTACT:
CLASS:PUBLIC
PRIORITY:5
TRANSP:OPAQUE
END:VEVENT
END:VCALENDAR
