BEGIN:VCALENDAR
PRODID:-//http://statistik.d-u-v.org//PHP ultracalendar//EN
VERSION:2.0
METHOD:PUBLISH
BEGIN:VEVENT
DTSTAMP:20260423T025019
CREATED:20230116T172627
UID:1776912619.0.60362400-94203@statistik.d-u-v.org
SUMMARY:La Démoniak
DESCRIPTION: La Démoniak\n
  \n
  
DTSTART:20230701T165000
DTEND:00000000T235900
LOCATION:Pouzauges\, FRA
URL:https://www.timepulse.fr/evenements/voir/2086/la-demoniak-pouzauges#epreuve
CATEGORIES:Ultramarathon
CONTACT:
CLASS:PUBLIC
PRIORITY:5
TRANSP:OPAQUE
END:VEVENT
END:VCALENDAR
