BEGIN:VCALENDAR
PRODID:-//http://statistik.d-u-v.org//PHP ultracalendar//EN
VERSION:2.0
METHOD:PUBLISH
BEGIN:VEVENT
DTSTAMP:20260422T221403
CREATED:20070409T000000
UID:1776896043.0.33039000-942@statistik.d-u-v.org
SUMMARY:Bandera 50 km Ultratrail
DESCRIPTION: Bandera 50 km Ultratrail\n
  \n
  
DTSTART:20070113T000000
DTEND:20070114T235900
LOCATION:Bandera, TX\, USA
URL:
CATEGORIES:Ultramarathon
CONTACT:
CLASS:PUBLIC
PRIORITY:5
TRANSP:OPAQUE
END:VEVENT
END:VCALENDAR
