BEGIN:VCALENDAR
PRODID:-//http://statistik.d-u-v.org//PHP ultracalendar//EN
VERSION:2.0
METHOD:PUBLISH
BEGIN:VEVENT
DTSTAMP:20260424T225500
CREATED:20230116T170440
UID:1777071300.0.93597200-94189@statistik.d-u-v.org
SUMMARY:Hainesport Hundred 24 Hour Endurance Run Summer
DESCRIPTION: Hainesport Hundred 24 Hour Endurance Run Summer\n
  Vanessa Kline\n
  info[at]beastcoastpro.com
DTSTART:20231007T090000
DTEND:20231008T090000
LOCATION:Hainesport, NJ\, USA
URL:https://beastcoastpro.com/
CATEGORIES:Ultramarathon
CONTACT:Vanessa Kline
CLASS:PUBLIC
PRIORITY:5
TRANSP:OPAQUE
END:VEVENT
END:VCALENDAR
