BEGIN:VCALENDAR
PRODID:-//http://statistik.d-u-v.org//PHP ultracalendar//EN
VERSION:2.0
METHOD:PUBLISH
BEGIN:VEVENT
DTSTAMP:20260422T194016
CREATED:20230112T220013
UID:1776886816.0.08064700-93896@statistik.d-u-v.org
SUMMARY:24h Trail Sazos
DESCRIPTION: 24h Trail Sazos\n
  \n
  24htrail[at]gmail.com
DTSTART:20230506T100000
DTEND:20230507T100000
LOCATION:Sazos\, FRA
URL:http://24htrail.run/index.php/fr/
CATEGORIES:Ultramarathon
CONTACT:
CLASS:PUBLIC
PRIORITY:5
TRANSP:OPAQUE
END:VEVENT
END:VCALENDAR
