BEGIN:VCALENDAR
PRODID:-//http://statistik.d-u-v.org//PHP ultracalendar//EN
VERSION:2.0
METHOD:PUBLISH
BEGIN:VEVENT
DTSTAMP:20260424T164104
CREATED:20230107T191907
UID:1777048864.0.99156800-93716@statistik.d-u-v.org
SUMMARY:Transylvania 6 days - 12h
DESCRIPTION: Transylvania 6 days - 12h\n
  Adrian Bontiu\n
  adrian[at]transylvania6days.ro
DTSTART:20230701T200000
DTEND:20230702T080000
LOCATION:Reghin\, ROU
URL:https://transylvania6days.ro/
CATEGORIES:Ultramarathon
CONTACT:Adrian Bontiu
CLASS:PUBLIC
PRIORITY:5
TRANSP:OPAQUE
END:VEVENT
END:VCALENDAR
