BEGIN:VCALENDAR
PRODID:-//http://statistik.d-u-v.org//PHP ultracalendar//EN
VERSION:2.0
METHOD:PUBLISH
BEGIN:VEVENT
DTSTAMP:20260423T040000
CREATED:20230105T030611
UID:1776916800.0.71265500-93667@statistik.d-u-v.org
SUMMARY:Pulse Endurance Runs (Pickled Feet)  6 Hour
DESCRIPTION: Pulse Endurance Runs (Pickled Feet)  6 Hour\n
  \n
  pickledfeetultras[at]gmail.com
DTSTART:20230318T120000
DTEND:00000000T235900
LOCATION:Eagle, ID\, USA
URL:https://www.pulserunning.com/pulseenduranceruns
CATEGORIES:Ultramarathon
CONTACT:
CLASS:PUBLIC
PRIORITY:5
TRANSP:OPAQUE
END:VEVENT
END:VCALENDAR
