BEGIN:VCALENDAR
PRODID:-//http://statistik.d-u-v.org//PHP ultracalendar//EN
VERSION:2.0
METHOD:PUBLISH
BEGIN:VEVENT
DTSTAMP:20260423T022741
CREATED:20230103T125638
UID:1776911261.0.13060400-93608@statistik.d-u-v.org
SUMMARY:Winter-Ultrapicknick im Hönnetal
DESCRIPTION: Winter-Ultrapicknick im Hönnetal\n
  Uwe Laig\n
  uwelaig[at]web.de
DTSTART:20230318T090000
DTEND:00000000T235900
LOCATION:Lengerich\, GER
URL:https://my.raceresult.com/229495/
CATEGORIES:Ultramarathon
CONTACT:Uwe Laig
CLASS:PUBLIC
PRIORITY:5
TRANSP:OPAQUE
END:VEVENT
END:VCALENDAR
