BEGIN:VCALENDAR
PRODID:-//http://statistik.d-u-v.org//PHP ultracalendar//EN
VERSION:2.0
METHOD:PUBLISH
BEGIN:VEVENT
DTSTAMP:20260419T161545
CREATED:20230102T121628
UID:1776615345.0.41361000-93601@statistik.d-u-v.org
SUMMARY:Sillamäe Ultra - 24 h
DESCRIPTION: Sillamäe Ultra - 24 h\n
  Pille Vennikas\n
  pillevennik[at]gmail.com;aet.kiisla[at]gmail.com
DTSTART:20230826T150000
DTEND:20230827T150000
LOCATION:Sillamäe\, EST
URL:https://ultrajooksja.ee/sillamae-ultra-2023-guide/
CATEGORIES:Ultramarathon
CONTACT:Pille Vennikas
CLASS:PUBLIC
PRIORITY:5
TRANSP:OPAQUE
END:VEVENT
END:VCALENDAR
