BEGIN:VCALENDAR
PRODID:-//http://statistik.d-u-v.org//PHP ultracalendar//EN
VERSION:2.0
METHOD:PUBLISH
BEGIN:VEVENT
DTSTAMP:20260423T041218
CREATED:20221231T153151
UID:1776917538.0.72543000-93561@statistik.d-u-v.org
SUMMARY:Last One Standing Ultra Marathon
DESCRIPTION: Last One Standing Ultra Marathon\n
  \n
  
DTSTART:20231208T070000
DTEND:20231209T235900
LOCATION:Saint George, UT\, USA
URL:https://www.sgcity.org/sportsandrecreation/races/lastonestanding
CATEGORIES:Ultramarathon
CONTACT:
CLASS:PUBLIC
PRIORITY:5
TRANSP:OPAQUE
END:VEVENT
END:VCALENDAR
