BEGIN:VCALENDAR
PRODID:-//http://statistik.d-u-v.org//PHP ultracalendar//EN
VERSION:2.0
METHOD:PUBLISH
BEGIN:VEVENT
DTSTAMP:20260424T214758
CREATED:20221226T164906
UID:1777067278.0.24155600-93494@statistik.d-u-v.org
SUMMARY:San Diego 200
DESCRIPTION: San Diego 200\n
  \n
  
DTSTART:20221111T050000
DTEND:20221114T235900
LOCATION:Escondido, CA\, USA
URL:https://ultrasignup.com/results_event.aspx?did=90023
CATEGORIES:Ultramarathon
CONTACT:
CLASS:PUBLIC
PRIORITY:5
TRANSP:OPAQUE
END:VEVENT
END:VCALENDAR
