BEGIN:VCALENDAR
PRODID:-//http://statistik.d-u-v.org//PHP ultracalendar//EN
VERSION:2.0
METHOD:PUBLISH
BEGIN:VEVENT
DTSTAMP:20260423T022722
CREATED:20221223T115219
UID:1776911242.0.54236900-93365@statistik.d-u-v.org
SUMMARY:Ultra Marathon Babia Gora - 6 x Babia Gora
DESCRIPTION: Ultra Marathon Babia Gora - 6 x Babia Gora\n
  \n
  info[at]kozica.org
DTSTART:20230610T030000
DTEND:00000000T235900
LOCATION:Zawoja\, POL
URL:http://ultrababia.pl
CATEGORIES:Ultramarathon
CONTACT:
CLASS:PUBLIC
PRIORITY:5
TRANSP:OPAQUE
END:VEVENT
END:VCALENDAR
