BEGIN:VCALENDAR
PRODID:-//http://statistik.d-u-v.org//PHP ultracalendar//EN
VERSION:2.0
METHOD:PUBLISH
BEGIN:VEVENT
DTSTAMP:20260419T210227
CREATED:20221221T182133
UID:1776632547.0.03646000-93295@statistik.d-u-v.org
SUMMARY:Goring Gap Run
DESCRIPTION: Goring Gap Run\n
  Chris Sumner\n
  admin[at]runreading.co.uk
DTSTART:20230514T080000
DTEND:00000000T235900
LOCATION:Reading\, GBR
URL:https://goringgaprun.com/
CATEGORIES:Ultramarathon
CONTACT:Chris Sumner
CLASS:PUBLIC
PRIORITY:5
TRANSP:OPAQUE
END:VEVENT
END:VCALENDAR
