BEGIN:VCALENDAR
PRODID:-//http://statistik.d-u-v.org//PHP ultracalendar//EN
VERSION:2.0
METHOD:PUBLISH
BEGIN:VEVENT
DTSTAMP:20260422T231337
CREATED:20221221T151723
UID:1776899617.0.55319100-93271@statistik.d-u-v.org
SUMMARY:Trail du Kreiz Breizh
DESCRIPTION: Trail du Kreiz Breizh\n
  Philippe Le Ruyet\n
  trail.du.kreiz.breizh[at]gmail.com; le-ruyet.philippe[at]wanadoo.fr
DTSTART:20230326T070000
DTEND:00000000T235900
LOCATION:Pontivy\, FRA
URL:https://www.klikego.com/inscription/tkb-trail-du-kreiz-breizh-2023/running-course-a-pied/1477908279468-6
CATEGORIES:Ultramarathon
CONTACT:Philippe Le Ruyet
CLASS:PUBLIC
PRIORITY:5
TRANSP:OPAQUE
END:VEVENT
END:VCALENDAR
