BEGIN:VCALENDAR
PRODID:-//http://statistik.d-u-v.org//PHP ultracalendar//EN
VERSION:2.0
METHOD:PUBLISH
BEGIN:VEVENT
DTSTAMP:20260419T164435
CREATED:20101202T155212
UID:1776617075.0.33517400-9326@statistik.d-u-v.org
SUMMARY:Sonnenuntergangs-Sonnenaufgangs-10h-Lauf
DESCRIPTION: Sonnenuntergangs-Sonnenaufgangs-10h-Lauf\n
  Dr. med. Jörn Trautmann\n
  joerntrautmann[at]t-online.de
DTSTART:20110610T220000
DTEND:20110611T080000
LOCATION:Apfelstädt\, GER
URL:http://www.apfelstaedter-jedermannlauf.de
CATEGORIES:Ultramarathon
CONTACT:Dr. med. Jörn Trautmann
CLASS:PUBLIC
PRIORITY:5
TRANSP:OPAQUE
END:VEVENT
END:VCALENDAR
