BEGIN:VCALENDAR
PRODID:-//http://statistik.d-u-v.org//PHP ultracalendar//EN
VERSION:2.0
METHOD:PUBLISH
BEGIN:VEVENT
DTSTAMP:20260424T160620
CREATED:20221219T152004
UID:1777046780.0.59531600-93215@statistik.d-u-v.org
SUMMARY:Tour New Year Ultra Run Stage Race
DESCRIPTION: Tour New Year Ultra Run Stage Race\n
  \n
  
DTSTART:20230120T060000
DTEND:20230129T140000
LOCATION:Tamsui District\, TPE
URL:https://www.facebook.com/groups/1508890489421668/events/
CATEGORIES:Ultramarathon
CONTACT:
CLASS:PUBLIC
PRIORITY:5
TRANSP:OPAQUE
END:VEVENT
END:VCALENDAR
