BEGIN:VCALENDAR
PRODID:-//http://statistik.d-u-v.org//PHP ultracalendar//EN
VERSION:2.0
METHOD:PUBLISH
BEGIN:VEVENT
DTSTAMP:20260423T020217
CREATED:20221218T220300
UID:1776909737.0.79404600-93182@statistik.d-u-v.org
SUMMARY:Free State Trail 40 Miles Run
DESCRIPTION: Free State Trail 40 Miles Run\n
  Ben Holmes\n
  badbendrs[at]yahoo.com
DTSTART:20221022T000000
DTEND:00000000T235900
LOCATION:Lawrence, KS\, USA
URL:http://www.psychowyco.com/
CATEGORIES:Ultramarathon
CONTACT:Ben Holmes
CLASS:PUBLIC
PRIORITY:5
TRANSP:OPAQUE
END:VEVENT
END:VCALENDAR
