BEGIN:VCALENDAR
PRODID:-//http://statistik.d-u-v.org//PHP ultracalendar//EN
VERSION:2.0
METHOD:PUBLISH
BEGIN:VEVENT
DTSTAMP:20260423T034904
CREATED:20221218T212758
UID:1776916144.0.24448700-93172@statistik.d-u-v.org
SUMMARY:HuBuT Hunsbuckel Trail
DESCRIPTION: HuBuT Hunsbuckel Trail\n
  hubut@tus-laubach.de\n
  hubut[at]tus-laubach.de
DTSTART:20230820T070000
DTEND:20230820T190000
LOCATION:Laubach\, GER
URL:http://hunsbuckel-trail.de
CATEGORIES:Ultramarathon
CONTACT:hubut@tus-laubach.de
CLASS:PUBLIC
PRIORITY:5
TRANSP:OPAQUE
END:VEVENT
END:VCALENDAR
